0.000508598561091
0.000000000000000
0.000000000000000
-0.000508969151707
-52.705883421055361
-0.440007385458999
