0.002282340148449
0.000000000000000
0.000000000000000
-0.002284003176829
-51.403403394807214
0.299902457837967
