0.012949517655770
0.000000000000000
0.000000000000000
-0.012945604232483
-55.975349341242996
2.497969627702240
