1.012654808477800
0.000000000000000
0.000000000000000
-1.012654808477809
1002526.214575624300000
582934.038094797990000
