1.012852438221864
0.000000000000000
0.000000000000000
-1.012412314510292
1002343.725839161300000
582865.473046721080000
