9.888483389193548
0.000000000000000
0.000000000000000
-9.884186459209465
993071.911038101770000
589797.954497540140000
