10.16000000000000
0.00000000000000
0.00000000000000
-10.16000000000000
347948.32486800000000
5262439.27396400090000
