10.16000000000000
0.00000000000000
0.00000000000000
-10.16000000000000
349379.51972299995000
5318009.93295600080000
