10.16000000000000
0.00000000000000
0.00000000000000
-10.16000000000000
274065.73774999997000
5320430.65824900010000
