2.43840000000000
0.00000000000000
0.00000000000000
-2.43840000000000
377033.98886799998581
5247898.87312499992549
