2.43840000000000
0.00000000000000
0.00000000000000
-2.43840000000000
367888.10209399997257
5261993.06392599828541
