2.43840000000000
0.00000000000000
0.00000000000000
-2.43840000000000
358450.57298399996944
5262213.24246700014919
