2.43840000000000
0.00000000000000
0.00000000000000
-2.43840000000000
415271.05931099998998
5275015.16440499946475
