2.43840000000000
0.00000000000000
0.00000000000000
-2.43840000000000
387296.38896000001114
5289383.92218999937177
