2.43840000000000
0.00000000000000
0.00000000000000
-2.43840000000000
406529.55030299996724
5316835.75430899951607
