2.43840000000000
0.00000000000000
0.00000000000000
-2.43840000000000
369140.87037299998337
5317561.49869399983436
