2.43840000000000
0.00000000000000
0.00000000000000
-2.43840000000000
350448.85572099999990
5318014.86420799978077
