2.43840000000000
0.00000000000000
0.00000000000000
-2.43840000000000
338445.29809499997646
5221025.16796199977398
