2.43840000000000
0.00000000000000
0.00000000000000
-2.43840000000000
328940.20397600001888
5221292.57974499929696
