2.43840000000000
0.00000000000000
0.00000000000000
-2.43840000000000
300431.96112599998014
5222178.21634100005031
