2.43840000000000
0.00000000000000
0.00000000000000
-2.43840000000000
271924.12230069999350
5223201.72862999979407
