2.43840000000000
0.00000000000000
0.00000000000000
-2.43840000000000
338820.79310900002019
5234917.14112299960107
