2.43840000000000
0.00000000000000
0.00000000000000
-2.43840000000000
310379.76128099998459
5235756.86965799983591
