2.43840000000000
0.00000000000000
0.00000000000000
-2.43840000000000
291417.50666800001636
5236395.47614099923521
