2.43840000000000
0.00000000000000
0.00000000000000
-2.43840000000000
301367.28093999996781
5249959.28015500027686
