2.43840000000000
0.00000000000000
0.00000000000000
-2.43840000000000
339578.19147399999201
5262697.97519600018859
