2.43840000000000
0.00000000000000
0.00000000000000
-2.43840000000000
339958.45411900000181
5276590.02256699930876
