2.43840000000000
0.00000000000000
0.00000000000000
-2.43840000000000
312163.87836299999617
5291322.41549499984831
