2.43840000000000
0.00000000000000
0.00000000000000
-2.43840000000000
340720.10833099996671
5304373.84068599995226
