2.43840000000000
0.00000000000000
0.00000000000000
-2.43840000000000
321981.96979200001806
5304917.22038599941880
