2.43840000000000
0.00000000000000
0.00000000000000
-2.43840000000000
303244.82457100000465
5305522.94659900013357
