1.00035173891659
0
0
-1.00035173891665
323790.2097834
5223898.0678196
