23.068186668183287
0.000000000000000
0.000000000000000
-23.076414811199530
315259.279144484670000
5212778.532105095700000
