150.00000000000000
0.00000000000000
0.00000000000000
-150.00000000000000
460440.00000000000000
5464320.00000000000000
